BEGIN:VCALENDAR
PRODID:-//http://statistik.d-u-v.org//PHP ultracalendar//EN
VERSION:2.0
METHOD:PUBLISH
BEGIN:VEVENT
DTSTAMP:20260419T135922
CREATED:20251110T192051
UID:1776607162.0.27074400-123997@statistik.d-u-v.org
SUMMARY:Black Spur Ultra 108k
DESCRIPTION: Black Spur Ultra 108k\n
  Sue Kostyniuk\n
  racehq[at]sinistersports.ca
DTSTART:20260822T080000
DTEND:20260823T080000
LOCATION:Kimberley, BC\, CAN
URL:https://www.sinistersports.ca/blackspur/
CATEGORIES:Ultramarathon
CONTACT:Sue Kostyniuk
CLASS:PUBLIC
PRIORITY:5
TRANSP:OPAQUE
END:VEVENT
END:VCALENDAR
