BEGIN:VCALENDAR
PRODID:-//http://statistik.d-u-v.org//PHP ultracalendar//EN
VERSION:2.0
METHOD:PUBLISH
BEGIN:VEVENT
DTSTAMP:20260419T161345
CREATED:20251115T182257
UID:1776615225.0.04857400-123990@statistik.d-u-v.org
SUMMARY:Viadal Ultra Six Days
DESCRIPTION: Viadal Ultra Six Days\n
  Daniel Cervera\n
  viadalultra[at]gmail.com
DTSTART:20260802T120000
DTEND:20260808T120000
LOCATION:Förslöv\, SWE
URL:https://www.viadalevent.se/se/viadal-ultra-sixdays
CATEGORIES:Ultramarathon
CONTACT:Daniel Cervera
CLASS:PUBLIC
PRIORITY:5
TRANSP:OPAQUE
END:VEVENT
END:VCALENDAR
