BEGIN:VCALENDAR
PRODID:-//http://statistik.d-u-v.org//PHP ultracalendar//EN
VERSION:2.0
METHOD:PUBLISH
BEGIN:VEVENT
DTSTAMP:20260420T035210
CREATED:20251114T162032
UID:1776657130.0.46373400-123953@statistik.d-u-v.org
SUMMARY:Ultra Trail Paranapiacaba
DESCRIPTION: Ultra Trail Paranapiacaba\n
  \n
  
DTSTART:20250907T000000
DTEND:00000000T235900
LOCATION:Santo André, São Paulo\, BRA
URL:https://www.minhasinscricoes.com.br/Evento/UltraTrailParanapiacaba2025
CATEGORIES:Ultramarathon
CONTACT:
CLASS:PUBLIC
PRIORITY:5
TRANSP:OPAQUE
END:VEVENT
END:VCALENDAR
