BEGIN:VCALENDAR
PRODID:-//http://statistik.d-u-v.org//PHP ultracalendar//EN
VERSION:2.0
METHOD:PUBLISH
BEGIN:VEVENT
DTSTAMP:20260419T121529
CREATED:20251112T085752
UID:1776600929.0.32946200-123908@statistik.d-u-v.org
SUMMARY:Tenacious 10h Endurance Challenge
DESCRIPTION: Tenacious 10h Endurance Challenge\n
  Ellen Wood\n
  ellen[at]limitlesstrails.co.uk
DTSTART:20260509T000000
DTEND:00000000T235900
LOCATION:Llanbedr\, GBR
URL:https://www.limitlesstrails.co.uk
CATEGORIES:Ultramarathon
CONTACT:Ellen Wood
CLASS:PUBLIC
PRIORITY:5
TRANSP:OPAQUE
END:VEVENT
END:VCALENDAR
