BEGIN:VCALENDAR
PRODID:-//http://statistik.d-u-v.org//PHP ultracalendar//EN
VERSION:2.0
METHOD:PUBLISH
BEGIN:VEVENT
DTSTAMP:20260419T121653
CREATED:20251112T075009
UID:1776601013.0.27486300-123899@statistik.d-u-v.org
SUMMARY:Ultra-Trail Snowdonia - 50km
DESCRIPTION: Ultra-Trail Snowdonia - 50km\n
  \n
  events.uk[at]utmb.world
DTSTART:20260516T073000
DTEND:00000000T235900
LOCATION:Llanberis\, GBR
URL:https://snowdonia.utmb.world/races/UTS-50K
CATEGORIES:Ultramarathon
CONTACT:
CLASS:PUBLIC
PRIORITY:5
TRANSP:OPAQUE
END:VEVENT
END:VCALENDAR
