BEGIN:VCALENDAR
PRODID:-//http://statistik.d-u-v.org//PHP ultracalendar//EN
VERSION:2.0
METHOD:PUBLISH
BEGIN:VEVENT
DTSTAMP:20260419T180845
CREATED:20251112T020526
UID:1776622125.0.29221600-123893@statistik.d-u-v.org
SUMMARY:Trail Vallée de Joux 51km
DESCRIPTION: Trail Vallée de Joux 51km\n
  \n
  info[at]trailvalleedejoux.ch
DTSTART:20261011T053000
DTEND:00000000T235900
LOCATION:L'Abbaye\, SUI
URL:https://trailvalleedejoux.ch/
CATEGORIES:Ultramarathon
CONTACT:
CLASS:PUBLIC
PRIORITY:5
TRANSP:OPAQUE
END:VEVENT
END:VCALENDAR
