BEGIN:VCALENDAR
PRODID:-//http://statistik.d-u-v.org//PHP ultracalendar//EN
VERSION:2.0
METHOD:PUBLISH
BEGIN:VEVENT
DTSTAMP:20260419T140118
CREATED:20251106T182102
UID:1776607278.0.00501900-123813@statistik.d-u-v.org
SUMMARY:Aizu Yanaizu Akabeko Marathon - 24h
DESCRIPTION: Aizu Yanaizu Akabeko Marathon - 24h\n
  \n
  
DTSTART:20261011T100000
DTEND:20261012T100000
LOCATION:Yanaizu, Fukushima\, JPN
URL:https://aizu-yanaizu12run.com/wp/#gaiyou
CATEGORIES:Ultramarathon
CONTACT:
CLASS:PUBLIC
PRIORITY:5
TRANSP:OPAQUE
END:VEVENT
END:VCALENDAR
