BEGIN:VCALENDAR
PRODID:-//http://statistik.d-u-v.org//PHP ultracalendar//EN
VERSION:2.0
METHOD:PUBLISH
BEGIN:VEVENT
DTSTAMP:20260420T003643
CREATED:20251217T090846
UID:1776645403.0.50408800-123777@statistik.d-u-v.org
SUMMARY:Endure 24 hour run Leeds
DESCRIPTION: Endure 24 hour run Leeds\n
  \n
  info[at]endure24.co.uk
DTSTART:20260704T120000
DTEND:20260705T235900
LOCATION:Leeds\, GBR
URL:http://www.endure24.co.uk/
CATEGORIES:Ultramarathon
CONTACT:
CLASS:PUBLIC
PRIORITY:5
TRANSP:OPAQUE
END:VEVENT
END:VCALENDAR
