BEGIN:VCALENDAR
PRODID:-//http://statistik.d-u-v.org//PHP ultracalendar//EN
VERSION:2.0
METHOD:PUBLISH
BEGIN:VEVENT
DTSTAMP:20260419T161348
CREATED:20251102T072728
UID:1776615228.0.48749700-123754@statistik.d-u-v.org
SUMMARY:Der Ruf der alten Mauern - 70km
DESCRIPTION: Der Ruf der alten Mauern - 70km\n
  Katja Dasbach\n
  katja[at]katjas-laufzeit.de
DTSTART:20260926T000000
DTEND:00000000T235900
LOCATION:Stebach\, GER
URL:http://www.katjas-laufzeit.de
CATEGORIES:Ultramarathon
CONTACT:Katja Dasbach
CLASS:PUBLIC
PRIORITY:5
TRANSP:OPAQUE
END:VEVENT
END:VCALENDAR
