BEGIN:VCALENDAR
PRODID:-//http://statistik.d-u-v.org//PHP ultracalendar//EN
VERSION:2.0
METHOD:PUBLISH
BEGIN:VEVENT
DTSTAMP:20260423T055209
CREATED:20251031T091525
UID:1776923529.0.03864800-123701@statistik.d-u-v.org
SUMMARY:Hot Mess Trail Races
DESCRIPTION: Hot Mess Trail Races\n
  \n
  ​endlessendurancellc[at]gmail.com
DTSTART:20251025T070000
DTEND:00000000T235900
LOCATION:Pittsgrove, NJ\, USA
URL:https://www.endlessendurance.com/
CATEGORIES:Ultramarathon
CONTACT:
CLASS:PUBLIC
PRIORITY:5
TRANSP:OPAQUE
END:VEVENT
END:VCALENDAR
