BEGIN:VCALENDAR
PRODID:-//http://statistik.d-u-v.org//PHP ultracalendar//EN
VERSION:2.0
METHOD:PUBLISH
BEGIN:VEVENT
DTSTAMP:20260423T033706
CREATED:20251029T143540
UID:1776915426.0.58804300-123692@statistik.d-u-v.org
SUMMARY:Fields of Gold
DESCRIPTION: Fields of Gold\n
  \n
  info@atxactive.com
DTSTART:20251025T090000
DTEND:00000000T235900
LOCATION:Marble Falls, TX\, USA
URL:https://runsignup.com/Race/TX/MarbleFalls/FieldsOfGoldTrailRun
CATEGORIES:Ultramarathon
CONTACT:
CLASS:PUBLIC
PRIORITY:5
TRANSP:OPAQUE
END:VEVENT
END:VCALENDAR
