BEGIN:VCALENDAR
PRODID:-//http://statistik.d-u-v.org//PHP ultracalendar//EN
VERSION:2.0
METHOD:PUBLISH
BEGIN:VEVENT
DTSTAMP:20260419T173553
CREATED:20251028T151922
UID:1776620153.0.13018600-123675@statistik.d-u-v.org
SUMMARY:Heidi-Challenge - Etappe3 Tour City Berlin
DESCRIPTION: Heidi-Challenge - Etappe3 Tour City Berlin\n
  Thomas Steinicke\n
  events[at]conibeta.de
DTSTART:20261012T000000
DTEND:00000000T235900
LOCATION:Spandau\, GER
URL:https://heidichallenge.run/
CATEGORIES:Ultramarathon
CONTACT:Thomas Steinicke
CLASS:PUBLIC
PRIORITY:5
TRANSP:OPAQUE
END:VEVENT
END:VCALENDAR
