BEGIN:VCALENDAR
PRODID:-//http://statistik.d-u-v.org//PHP ultracalendar//EN
VERSION:2.0
METHOD:PUBLISH
BEGIN:VEVENT
DTSTAMP:20260424T233119
CREATED:20250916T221102
UID:1777073479.0.12629400-123662@statistik.d-u-v.org
SUMMARY:Summit 50/50 50 km Race
DESCRIPTION: Summit 50/50 50 km Race\n
  Lauren Wetterhahn\n
  lauren[at]saltcitytrailracing.com
DTSTART:20251025T060000
DTEND:00000000T235900
LOCATION:Salamanca, NY\, USA
URL:https://www.reluctantrunnerracing.com/races-1
CATEGORIES:Ultramarathon
CONTACT:Lauren Wetterhahn
CLASS:PUBLIC
PRIORITY:5
TRANSP:OPAQUE
END:VEVENT
END:VCALENDAR
