BEGIN:VCALENDAR
PRODID:-//http://statistik.d-u-v.org//PHP ultracalendar//EN
VERSION:2.0
METHOD:PUBLISH
BEGIN:VEVENT
DTSTAMP:20260423T003820
CREATED:20251027T194033
UID:1776904700.0.51014000-123645@statistik.d-u-v.org
SUMMARY:Suttle Lake Trailfest
DESCRIPTION: Suttle Lake Trailfest\n
  \n
  
DTSTART:20251025T090000
DTEND:00000000T235900
LOCATION:Sisters, OR\, USA
URL:https://www.alpinerunning.co/suttle-lake-trailfest-25
CATEGORIES:Ultramarathon
CONTACT:
CLASS:PUBLIC
PRIORITY:5
TRANSP:OPAQUE
END:VEVENT
END:VCALENDAR
