BEGIN:VCALENDAR
PRODID:-//http://statistik.d-u-v.org//PHP ultracalendar//EN
VERSION:2.0
METHOD:PUBLISH
BEGIN:VEVENT
DTSTAMP:20260419T161749
CREATED:20251026T205744
UID:1776615469.0.02587200-123603@statistik.d-u-v.org
SUMMARY:Salzach Ultra Run - 100k nonstop
DESCRIPTION: Salzach Ultra Run - 100k nonstop\n
  Matthias Mayer\n
  info[at]salzachultrarun.at
DTSTART:20260725T050000
DTEND:20260726T210000
LOCATION:Golling\, AUT
URL:https://www.salzachultrarun.at/
CATEGORIES:Ultramarathon
CONTACT:Matthias Mayer
CLASS:PUBLIC
PRIORITY:5
TRANSP:OPAQUE
END:VEVENT
END:VCALENDAR
