BEGIN:VCALENDAR
PRODID:-//http://statistik.d-u-v.org//PHP ultracalendar//EN
VERSION:2.0
METHOD:PUBLISH
BEGIN:VEVENT
DTSTAMP:20260422T222540
CREATED:20071104T000000
UID:1776896740.0.10745500-1236@statistik.d-u-v.org
SUMMARY:DUV-DM im 50 km Straßenlauf in Bottrop
DESCRIPTION: DUV-DM im 50 km Straßenlauf in Bottrop\n
  \n
  jliebert[at]gelsennet.de
DTSTART:20071104T000000
DTEND:00000000T235900
LOCATION:Bottrop\, GER
URL:http://www.adler-langlauf.de/
CATEGORIES:Ultramarathon
CONTACT:
CLASS:PUBLIC
PRIORITY:5
TRANSP:OPAQUE
END:VEVENT
END:VCALENDAR
