BEGIN:VCALENDAR
PRODID:-//http://statistik.d-u-v.org//PHP ultracalendar//EN
VERSION:2.0
METHOD:PUBLISH
BEGIN:VEVENT
DTSTAMP:20260419T140020
CREATED:20251026T205529
UID:1776607220.0.22961300-123570@statistik.d-u-v.org
SUMMARY:Grand Raid du Guillestrois et du Queyras - Trail des Crêtes
DESCRIPTION: Grand Raid du Guillestrois et du Queyras - Trail des Crêtes\n
  \n
  orga[at]grandraidduguillestrois-queyras.com
DTSTART:20260704T070000
DTEND:20260705T050000
LOCATION:Saint-Veran\, FRA
URL:http://grandraidduguillestrois-queyras.com
CATEGORIES:Ultramarathon
CONTACT:
CLASS:PUBLIC
PRIORITY:5
TRANSP:OPAQUE
END:VEVENT
END:VCALENDAR
