BEGIN:VCALENDAR
PRODID:-//http://statistik.d-u-v.org//PHP ultracalendar//EN
VERSION:2.0
METHOD:PUBLISH
BEGIN:VEVENT
DTSTAMP:20260419T121647
CREATED:20251020T173916
UID:1776601007.0.35812400-123538@statistik.d-u-v.org
SUMMARY:NO MAD des coureurs fous, Munster-Venezia
DESCRIPTION: NO MAD des coureurs fous, Munster-Venezia\n
  Pierre Zürcher\n
  pierre[at]fiduciaire-zuercher.ch
DTSTART:20260530T000000
DTEND:20260613T235900
LOCATION:Munster\, FRA
URL:https://pizu67.wixsite.com/no-mad
CATEGORIES:Ultramarathon
CONTACT:Pierre Zürcher
CLASS:PUBLIC
PRIORITY:5
TRANSP:OPAQUE
END:VEVENT
END:VCALENDAR
