BEGIN:VCALENDAR
PRODID:-//http://statistik.d-u-v.org//PHP ultracalendar//EN
VERSION:2.0
METHOD:PUBLISH
BEGIN:VEVENT
DTSTAMP:20260419T161735
CREATED:20251020T100929
UID:1776615455.0.18702400-123521@statistik.d-u-v.org
SUMMARY:Backyard Ultra Warszawa-Bemowo
DESCRIPTION: Backyard Ultra Warszawa-Bemowo\n
  Monika Gańska-Karamon\n
  
DTSTART:20261009T090000
DTEND:00000000T235900
LOCATION:Warszawa\, POL
URL:https://www.facebook.com/profile.php?id=61582251104418
CATEGORIES:Ultramarathon
CONTACT:Monika Gańska-Karamon
CLASS:PUBLIC
PRIORITY:5
TRANSP:OPAQUE
END:VEVENT
END:VCALENDAR
