BEGIN:VCALENDAR
PRODID:-//http://statistik.d-u-v.org//PHP ultracalendar//EN
VERSION:2.0
METHOD:PUBLISH
BEGIN:VEVENT
DTSTAMP:20260419T164822
CREATED:20251022T203652
UID:1776617302.0.92796700-123513@statistik.d-u-v.org
SUMMARY:Die 24 Stunden van Halen
DESCRIPTION: Die 24 Stunden van Halen\n
  Andreas Pluta\n
  lglottehalen[at]gmail.com
DTSTART:20260801T110000
DTEND:20260802T110000
LOCATION:Lotte\, GER
URL:https://lg-lottehalen.jimdofree.com/
CATEGORIES:Ultramarathon
CONTACT:Andreas Pluta
CLASS:PUBLIC
PRIORITY:5
TRANSP:OPAQUE
END:VEVENT
END:VCALENDAR
