BEGIN:VCALENDAR
PRODID:-//http://statistik.d-u-v.org//PHP ultracalendar//EN
VERSION:2.0
METHOD:PUBLISH
BEGIN:VEVENT
DTSTAMP:20260419T140119
CREATED:20251022T212554
UID:1776607279.0.26991000-123509@statistik.d-u-v.org
SUMMARY:Backyard Ultra Esztergom
DESCRIPTION: Backyard Ultra Esztergom\n
  Tibor Pósa\n
  esztergomitriatlon[at]gmail.com; efk.csigafutas[at]gmail.com
DTSTART:20260424T100000
DTEND:20260427T130000
LOCATION:Esztergom\, HUN
URL:https://esztergomitriatlon.hu/backyard-ultra-esztergom-2026
CATEGORIES:Ultramarathon
CONTACT:Tibor Pósa
CLASS:PUBLIC
PRIORITY:5
TRANSP:OPAQUE
END:VEVENT
END:VCALENDAR
