BEGIN:VCALENDAR
PRODID:-//http://statistik.d-u-v.org//PHP ultracalendar//EN
VERSION:2.0
METHOD:PUBLISH
BEGIN:VEVENT
DTSTAMP:20260419T180833
CREATED:20251023T154724
UID:1776622113.0.69726300-123505@statistik.d-u-v.org
SUMMARY:Hochkönig Ultraks - HK48
DESCRIPTION: Hochkönig Ultraks - HK48\n
  \n
  hochkoenig[at]ultraks.com
DTSTART:20260606T063000
DTEND:00000000T235900
LOCATION:Maria Alm\, AUT
URL:https://www.hochkoenig-ultraks.at
CATEGORIES:Ultramarathon
CONTACT:
CLASS:PUBLIC
PRIORITY:5
TRANSP:OPAQUE
END:VEVENT
END:VCALENDAR
