BEGIN:VCALENDAR
PRODID:-//http://statistik.d-u-v.org//PHP ultracalendar//EN
VERSION:2.0
METHOD:PUBLISH
BEGIN:VEVENT
DTSTAMP:20260419T135942
CREATED:20251018T073525
UID:1776607182.0.52917600-123391@statistik.d-u-v.org
SUMMARY:Peak District Challenge - Gold Ultra 100km
DESCRIPTION: Peak District Challenge - Gold Ultra 100km\n
  Will Sheaff\n
  will[at]peak-district-challenge.co.uk
DTSTART:20260918T210000
DTEND:20260919T210000
LOCATION:Hathersage\, GBR
URL:https://www.peak-district-challenge.com/routes/gold-ultra-challenge-100km-24-hours/
CATEGORIES:Ultramarathon
CONTACT:Will Sheaff
CLASS:PUBLIC
PRIORITY:5
TRANSP:OPAQUE
END:VEVENT
END:VCALENDAR
