BEGIN:VCALENDAR
PRODID:-//http://statistik.d-u-v.org//PHP ultracalendar//EN
VERSION:2.0
METHOD:PUBLISH
BEGIN:VEVENT
DTSTAMP:20260419T121632
CREATED:20251015T193329
UID:1776600992.0.40236700-123381@statistik.d-u-v.org
SUMMARY:X100 Rund um Münster Ultramarathon
DESCRIPTION: X100 Rund um Münster Ultramarathon\n
  Uwe Laig\n
  uwelaig[at]web.de
DTSTART:20260514T080000
DTEND:00000000T235900
LOCATION:Münster\, GER
URL:https://my.raceresult.com/341998/
CATEGORIES:Ultramarathon
CONTACT:Uwe Laig
CLASS:PUBLIC
PRIORITY:5
TRANSP:OPAQUE
END:VEVENT
END:VCALENDAR
