BEGIN:VCALENDAR
PRODID:-//http://statistik.d-u-v.org//PHP ultracalendar//EN
VERSION:2.0
METHOD:PUBLISH
BEGIN:VEVENT
DTSTAMP:20260419T192508
CREATED:20251016T085304
UID:1776626708.0.89498400-123364@statistik.d-u-v.org
SUMMARY:Lake Biwa 100
DESCRIPTION: Lake Biwa 100\n
  Kaori Niwa\n
  info[at]lakebiwa100.com
DTSTART:20261009T090000
DTEND:20261011T130000
LOCATION:Komono, Mie Pref.\, JPN
URL:https://lakebiwa100.com/
CATEGORIES:Ultramarathon
CONTACT:Kaori Niwa
CLASS:PUBLIC
PRIORITY:5
TRANSP:OPAQUE
END:VEVENT
END:VCALENDAR
