BEGIN:VCALENDAR
PRODID:-//http://statistik.d-u-v.org//PHP ultracalendar//EN
VERSION:2.0
METHOD:PUBLISH
BEGIN:VEVENT
DTSTAMP:20260423T041224
CREATED:20251013T161445
UID:1776917544.0.83832800-123302@statistik.d-u-v.org
SUMMARY:Big Rock Morenic 50 km
DESCRIPTION: Big Rock Morenic 50 km\n
  \n
  bigrock[at]morenic.com
DTSTART:20251011T100000
DTEND:00000000T235900
LOCATION:Vialfre (TO)\, ITA
URL:https://www.morenic.com/big-rock-morenic/
CATEGORIES:Ultramarathon
CONTACT:
CLASS:PUBLIC
PRIORITY:5
TRANSP:OPAQUE
END:VEVENT
END:VCALENDAR
