BEGIN:VCALENDAR
PRODID:-//http://statistik.d-u-v.org//PHP ultracalendar//EN
VERSION:2.0
METHOD:PUBLISH
BEGIN:VEVENT
DTSTAMP:20260419T233311
CREATED:20251012T180530
UID:1776641591.0.40733700-123277@statistik.d-u-v.org
SUMMARY:Desafio Internacional Rota da Baleia
DESCRIPTION: Desafio Internacional Rota da Baleia\n
  \n
  contato[at]desafiorotadabaleia.com.br
DTSTART:20230902T090000
DTEND:00000000T235900
LOCATION:Garopaba, SC\, BRA
URL:https://itra.run/Races/RaceResults/Desafio.Rota.da.Baleia.Desafio.Rota.da.Baleia/2022/74333
CATEGORIES:Ultramarathon
CONTACT:
CLASS:PUBLIC
PRIORITY:5
TRANSP:OPAQUE
END:VEVENT
END:VCALENDAR
