BEGIN:VCALENDAR
PRODID:-//http://statistik.d-u-v.org//PHP ultracalendar//EN
VERSION:2.0
METHOD:PUBLISH
BEGIN:VEVENT
DTSTAMP:20260422T194016
CREATED:20251012T083839
UID:1776886816.0.53530500-123256@statistik.d-u-v.org
SUMMARY:Bhatti Lakes 100 miles
DESCRIPTION: Bhatti Lakes 100 miles\n
  \n
  info[at]globeracers.com
DTSTART:20250926T170000
DTEND:20250928T210000
LOCATION:Delhi\, IND
URL:http://globeracers.com/bhatti-lakes-ultra/
CATEGORIES:Ultramarathon
CONTACT:
CLASS:PUBLIC
PRIORITY:5
TRANSP:OPAQUE
END:VEVENT
END:VCALENDAR
