BEGIN:VCALENDAR
PRODID:-//http://statistik.d-u-v.org//PHP ultracalendar//EN
VERSION:2.0
METHOD:PUBLISH
BEGIN:VEVENT
DTSTAMP:20260422T194017
CREATED:20251012T083710
UID:1776886817.0.81105800-123255@statistik.d-u-v.org
SUMMARY:Bhatti Lakes 200 km
DESCRIPTION: Bhatti Lakes 200 km\n
  \n
  info[at]globeracers.com
DTSTART:20250926T170000
DTEND:20250928T040000
LOCATION:Delhi\, IND
URL:http://globeracers.com/bhatti-lakes-ultra/
CATEGORIES:Ultramarathon
CONTACT:
CLASS:PUBLIC
PRIORITY:5
TRANSP:OPAQUE
END:VEVENT
END:VCALENDAR
