BEGIN:VCALENDAR
PRODID:-//http://statistik.d-u-v.org//PHP ultracalendar//EN
VERSION:2.0
METHOD:PUBLISH
BEGIN:VEVENT
DTSTAMP:20260419T140113
CREATED:20251010T114914
UID:1776607273.0.69660500-123227@statistik.d-u-v.org
SUMMARY:Garden City Backyard Ultra
DESCRIPTION: Garden City Backyard Ultra\n
  John Hughes\n
  gardencitybackyardultra[at]gmail.com;jhughes1984[at]gmail.com
DTSTART:20261003T070000
DTEND:00000000T235900
LOCATION:Toowoomba, QLD\, AUS
URL:https://www.gcbu.com.au
CATEGORIES:Ultramarathon
CONTACT:John Hughes
CLASS:PUBLIC
PRIORITY:5
TRANSP:OPAQUE
END:VEVENT
END:VCALENDAR
