BEGIN:VCALENDAR
PRODID:-//http://statistik.d-u-v.org//PHP ultracalendar//EN
VERSION:2.0
METHOD:PUBLISH
BEGIN:VEVENT
DTSTAMP:20260419T161736
CREATED:20251011T133143
UID:1776615456.0.64332000-123195@statistik.d-u-v.org
SUMMARY:The Biggest Little Ultra - 12h Fri
DESCRIPTION: The Biggest Little Ultra - 12h Fri\n
  \n
  toddleigh1@gmail.com
DTSTART:20251011T090000
DTEND:00000000T235900
LOCATION:Sparks, NV\, USA
URL:https://www.biggestlittleultra.com/
CATEGORIES:Ultramarathon
CONTACT:
CLASS:PUBLIC
PRIORITY:5
TRANSP:OPAQUE
END:VEVENT
END:VCALENDAR
