BEGIN:VCALENDAR
PRODID:-//http://statistik.d-u-v.org//PHP ultracalendar//EN
VERSION:2.0
METHOD:PUBLISH
BEGIN:VEVENT
DTSTAMP:20260420T005903
CREATED:20251005T174231
UID:1776646743.0.82013700-123071@statistik.d-u-v.org
SUMMARY:UpRiver Running Fall Races
DESCRIPTION: UpRiver Running Fall Races\n
  \n
  upriverrunning[at]gmail.com
DTSTART:20251004T000000
DTEND:00000000T235900
LOCATION:Thunder Bay, ON\, CAN
URL:https://ultrasignup.com/register.aspx?did=125157
CATEGORIES:Ultramarathon
CONTACT:
CLASS:PUBLIC
PRIORITY:5
TRANSP:OPAQUE
END:VEVENT
END:VCALENDAR
