BEGIN:VCALENDAR
PRODID:-//http://statistik.d-u-v.org//PHP ultracalendar//EN
VERSION:2.0
METHOD:PUBLISH
BEGIN:VEVENT
DTSTAMP:20260422T194013
CREATED:20251005T173819
UID:1776886813.0.71369300-123070@statistik.d-u-v.org
SUMMARY:Little Duck 50k
DESCRIPTION: Little Duck 50k\n
  \n
  
DTSTART:20251005T070000
DTEND:00000000T235900
LOCATION:Windham, ME\, USA
URL:https://ultrasignup.com/register.aspx?did=127066
CATEGORIES:Ultramarathon
CONTACT:
CLASS:PUBLIC
PRIORITY:5
TRANSP:OPAQUE
END:VEVENT
END:VCALENDAR
