BEGIN:VCALENDAR
PRODID:-//http://statistik.d-u-v.org//PHP ultracalendar//EN
VERSION:2.0
METHOD:PUBLISH
BEGIN:VEVENT
DTSTAMP:20260419T155334
CREATED:20251004T114643
UID:1776614014.0.19089400-123037@statistik.d-u-v.org
SUMMARY:TransSwissRun
DESCRIPTION: TransSwissRun\n
  Markus Jörg\n
  transswissrun[at]hotmail.com
DTSTART:20260725T070000
DTEND:20260801T110000
LOCATION:Chancy, GE\, SUI
URL:https//www.transswissrun.ch
CATEGORIES:Ultramarathon
CONTACT:Markus Jörg
CLASS:PUBLIC
PRIORITY:5
TRANSP:OPAQUE
END:VEVENT
END:VCALENDAR
