BEGIN:VCALENDAR
PRODID:-//http://statistik.d-u-v.org//PHP ultracalendar//EN
VERSION:2.0
METHOD:PUBLISH
BEGIN:VEVENT
DTSTAMP:20260420T070829
CREATED:20251003T033637
UID:1776668909.0.10130000-122972@statistik.d-u-v.org
SUMMARY:Icebox 480 - 8 Hour Run
DESCRIPTION: Icebox 480 - 8 Hour Run\n
  Chris Swenke\n
  race.director[at]icebox480.com
DTSTART:20131109T000000
DTEND:00000000T235900
LOCATION:River Falls, WI\, USA
URL:http://icebox480.com/
CATEGORIES:Ultramarathon
CONTACT:Chris Swenke
CLASS:PUBLIC
PRIORITY:5
TRANSP:OPAQUE
END:VEVENT
END:VCALENDAR
