BEGIN:VCALENDAR
PRODID:-//http://statistik.d-u-v.org//PHP ultracalendar//EN
VERSION:2.0
METHOD:PUBLISH
BEGIN:VEVENT
DTSTAMP:20260424T150852
CREATED:20251002T133446
UID:1777043332.0.75257900-122940@statistik.d-u-v.org
SUMMARY:Self Transcendence 24h
DESCRIPTION: Self Transcendence 24h\n
  \n
  
DTSTART:20130928T000000
DTEND:20130929T235900
LOCATION:Ottawa, ON\, CAN
URL:https://ultrarunning.com/calendar/event/self-transcendence-11
CATEGORIES:Ultramarathon
CONTACT:
CLASS:PUBLIC
PRIORITY:5
TRANSP:OPAQUE
END:VEVENT
END:VCALENDAR
