BEGIN:VCALENDAR
PRODID:-//http://statistik.d-u-v.org//PHP ultracalendar//EN
VERSION:2.0
METHOD:PUBLISH
BEGIN:VEVENT
DTSTAMP:20260424T183652
CREATED:20250929T155802
UID:1777055812.0.39155000-122880@statistik.d-u-v.org
SUMMARY:Adamello Half Trail 60 km
DESCRIPTION: Adamello Half Trail 60 km\n
  \n
  info[at]adamelloultratrail.it
DTSTART:20250926T080000
DTEND:00000000T235900
LOCATION:Vezza d'Oglio (BS)\, ITA
URL:http://www.adamelloultratrail.it/
CATEGORIES:Ultramarathon
CONTACT:
CLASS:PUBLIC
PRIORITY:5
TRANSP:OPAQUE
END:VEVENT
END:VCALENDAR
