BEGIN:VCALENDAR
PRODID:-//http://statistik.d-u-v.org//PHP ultracalendar//EN
VERSION:2.0
METHOD:PUBLISH
BEGIN:VEVENT
DTSTAMP:20260419T140102
CREATED:20250929T063011
UID:1776607262.0.74105800-122861@statistik.d-u-v.org
SUMMARY:Pilliga Ultra
DESCRIPTION: Pilliga Ultra\n
  \n
  hello[at]forwildplaces.com
DTSTART:20260919T060000
DTEND:00000000T235900
LOCATION:Coonabarabran, NSW\, AUS
URL:https://www.forwildplaces.com/pilliga-ultra/
CATEGORIES:Ultramarathon
CONTACT:
CLASS:PUBLIC
PRIORITY:5
TRANSP:OPAQUE
END:VEVENT
END:VCALENDAR
