BEGIN:VCALENDAR
PRODID:-//http://statistik.d-u-v.org//PHP ultracalendar//EN
VERSION:2.0
METHOD:PUBLISH
BEGIN:VEVENT
DTSTAMP:20260422T235124
CREATED:20250928T055830
UID:1776901884.0.20816000-122821@statistik.d-u-v.org
SUMMARY:Hindsight Ultra Trail Runs 100 km
DESCRIPTION: Hindsight Ultra Trail Runs 100 km\n
  \n
  
DTSTART:20250927T000000
DTEND:00000000T235900
LOCATION:Dixon, IL\, USA
URL:https://ultrasignup.com/register.aspx?did=125658
CATEGORIES:Ultramarathon
CONTACT:
CLASS:PUBLIC
PRIORITY:5
TRANSP:OPAQUE
END:VEVENT
END:VCALENDAR
