BEGIN:VCALENDAR
PRODID:-//http://statistik.d-u-v.org//PHP ultracalendar//EN
VERSION:2.0
METHOD:PUBLISH
BEGIN:VEVENT
DTSTAMP:20260419T180841
CREATED:20250926T120608
UID:1776622121.0.72554500-122772@statistik.d-u-v.org
SUMMARY:Mighty Mosquito 100 Mile Ultra Race
DESCRIPTION: Mighty Mosquito 100 Mile Ultra Race\n
  \n
  rob[at]bluefoundationny.org
DTSTART:20260725T060000
DTEND:20260726T160000
LOCATION:Honeoye Falls, NY\, USA
URL:https://ultrasignup.com/register.aspx?did=129923
CATEGORIES:Ultramarathon
CONTACT:
CLASS:PUBLIC
PRIORITY:5
TRANSP:OPAQUE
END:VEVENT
END:VCALENDAR
