BEGIN:VCALENDAR
PRODID:-//http://statistik.d-u-v.org//PHP ultracalendar//EN
VERSION:2.0
METHOD:PUBLISH
BEGIN:VEVENT
DTSTAMP:20260419T161732
CREATED:20250926T114008
UID:1776615452.0.45393200-122754@statistik.d-u-v.org
SUMMARY:Bishop High Sierra Ultramarathons 55 km
DESCRIPTION: Bishop High Sierra Ultramarathons 55 km\n
  \n
  
DTSTART:20260516T052500
DTEND:00000000T235900
LOCATION:Bishop, CA\, USA
URL:https://ultrasignup.com/register.aspx?did=128093
CATEGORIES:Ultramarathon
CONTACT:
CLASS:PUBLIC
PRIORITY:5
TRANSP:OPAQUE
END:VEVENT
END:VCALENDAR
