BEGIN:VCALENDAR
PRODID:-//http://statistik.d-u-v.org//PHP ultracalendar//EN
VERSION:2.0
METHOD:PUBLISH
BEGIN:VEVENT
DTSTAMP:20260419T144818
CREATED:20250926T113705
UID:1776610098.0.67538500-122752@statistik.d-u-v.org
SUMMARY:The BIG 50
DESCRIPTION: The BIG 50\n
  \n
  andrew@baconlaser.com
DTSTART:20260502T073000
DTEND:00000000T235900
LOCATION:Pine Mountain, GA\, USA
URL:https://ultrasignup.com/register.aspx?did=126634
CATEGORIES:Ultramarathon
CONTACT:
CLASS:PUBLIC
PRIORITY:5
TRANSP:OPAQUE
END:VEVENT
END:VCALENDAR
