BEGIN:VCALENDAR
PRODID:-//http://statistik.d-u-v.org//PHP ultracalendar//EN
VERSION:2.0
METHOD:PUBLISH
BEGIN:VEVENT
DTSTAMP:20260419T121631
CREATED:20250926T112212
UID:1776600991.0.67488700-122735@statistik.d-u-v.org
SUMMARY:Double Top 100 km
DESCRIPTION: Double Top 100 km\n
  \n
  
DTSTART:20260418T060000
DTEND:20260419T080000
LOCATION:Chatsworth, GA\, USA
URL:https://ultrasignup.com/register.aspx?did=127097
CATEGORIES:Ultramarathon
CONTACT:
CLASS:PUBLIC
PRIORITY:5
TRANSP:OPAQUE
END:VEVENT
END:VCALENDAR
