BEGIN:VCALENDAR
PRODID:-//http://statistik.d-u-v.org//PHP ultracalendar//EN
VERSION:2.0
METHOD:PUBLISH
BEGIN:VEVENT
DTSTAMP:20260423T043622
CREATED:20250926T110604
UID:1776918982.0.99297800-122726@statistik.d-u-v.org
SUMMARY:Rattlesnake Dick
DESCRIPTION: Rattlesnake Dick\n
  \n
  info@northforkclothing.com
DTSTART:20260321T080000
DTEND:00000000T235900
LOCATION:Cool, CA\, USA
URL:https://ultrasignup.com/register.aspx?did=126184
CATEGORIES:Ultramarathon
CONTACT:
CLASS:PUBLIC
PRIORITY:5
TRANSP:OPAQUE
END:VEVENT
END:VCALENDAR
