BEGIN:VCALENDAR
PRODID:-//http://statistik.d-u-v.org//PHP ultracalendar//EN
VERSION:2.0
METHOD:PUBLISH
BEGIN:VEVENT
DTSTAMP:20260419T210220
CREATED:20071101T000000
UID:1776632540.0.48145000-1227@statistik.d-u-v.org
SUMMARY:Campeonato Nacional De Las 12 Horas Corriendo
DESCRIPTION: Campeonato Nacional De Las 12 Horas Corriendo\n
  \n
  
DTSTART:20070324T000000
DTEND:00000000T235900
LOCATION:Monterrey\, MEX
URL:
CATEGORIES:Ultramarathon
CONTACT:
CLASS:PUBLIC
PRIORITY:5
TRANSP:OPAQUE
END:VEVENT
END:VCALENDAR
