BEGIN:VCALENDAR
PRODID:-//http://statistik.d-u-v.org//PHP ultracalendar//EN
VERSION:2.0
METHOD:PUBLISH
BEGIN:VEVENT
DTSTAMP:20260419T173711
CREATED:20250926T095248
UID:1776620231.0.09311300-122687@statistik.d-u-v.org
SUMMARY:Aspen Backcountry
DESCRIPTION: Aspen Backcountry\n
  \n
  info[at]aravaiparunning.com
DTSTART:20260801T060000
DTEND:00000000T235900
LOCATION:Aspen, CO\, USA
URL:https://ultrasignup.com/register.aspx?did=130516
CATEGORIES:Ultramarathon
CONTACT:
CLASS:PUBLIC
PRIORITY:5
TRANSP:OPAQUE
END:VEVENT
END:VCALENDAR
