BEGIN:VCALENDAR
PRODID:-//http://statistik.d-u-v.org//PHP ultracalendar//EN
VERSION:2.0
METHOD:PUBLISH
BEGIN:VEVENT
DTSTAMP:20260419T161603
CREATED:20250926T095154
UID:1776615363.0.86429300-122674@statistik.d-u-v.org
SUMMARY:Two Hearted Trail Run
DESCRIPTION: Two Hearted Trail Run\n
  \n
  info[at]aravaiparunning.com
DTSTART:20260620T070000
DTEND:00000000T235900
LOCATION:Paradise, MI\, USA
URL:https://ultrasignup.com/register.aspx?did=129717
CATEGORIES:Ultramarathon
CONTACT:
CLASS:PUBLIC
PRIORITY:5
TRANSP:OPAQUE
END:VEVENT
END:VCALENDAR
