BEGIN:VCALENDAR
PRODID:-//http://statistik.d-u-v.org//PHP ultracalendar//EN
VERSION:2.0
METHOD:PUBLISH
BEGIN:VEVENT
DTSTAMP:20260423T020452
CREATED:20250926T094949
UID:1776909892.0.73430100-122647@statistik.d-u-v.org
SUMMARY:Mesquite Canyon 50 km
DESCRIPTION: Mesquite Canyon 50 km\n
  \n
  info[at]aravaiparunning.com
DTSTART:20260314T063000
DTEND:00000000T235900
LOCATION:Waddell, AZ\, USA
URL:https://ultrasignup.com/register.aspx?did=125359
CATEGORIES:Ultramarathon
CONTACT:
CLASS:PUBLIC
PRIORITY:5
TRANSP:OPAQUE
END:VEVENT
END:VCALENDAR
