BEGIN:VCALENDAR
PRODID:-//http://statistik.d-u-v.org//PHP ultracalendar//EN
VERSION:2.0
METHOD:PUBLISH
BEGIN:VEVENT
DTSTAMP:20260419T195331
CREATED:20250923T210502
UID:1776628411.0.58525000-122567@statistik.d-u-v.org
SUMMARY:Marji Gesick 50 Mile Ultra Race
DESCRIPTION: Marji Gesick 50 Mile Ultra Race\n
  \n
  info[at]906adventureteam.com
DTSTART:20250920T073000
DTEND:00000000T235900
LOCATION:Ishpeming, MI\, USA
URL:https://ultrasignup.com/register.aspx?did=109586
CATEGORIES:Ultramarathon
CONTACT:
CLASS:PUBLIC
PRIORITY:5
TRANSP:OPAQUE
END:VEVENT
END:VCALENDAR
