BEGIN:VCALENDAR
PRODID:-//http://statistik.d-u-v.org//PHP ultracalendar//EN
VERSION:2.0
METHOD:PUBLISH
BEGIN:VEVENT
DTSTAMP:20260419T164817
CREATED:20250917T165722
UID:1776617297.0.37626400-122355@statistik.d-u-v.org
SUMMARY:Ultimate Trails of Penang 200 Km
DESCRIPTION: Ultimate Trails of Penang 200 Km\n
  Ng Seow Kong\n
  seowkong.ng[at]endurancenature.com.my
DTSTART:20251009T140000
DTEND:20251012T170000
LOCATION:Penang\, MAS
URL:https://www.facebook.com/UTOPenang/events
CATEGORIES:Ultramarathon
CONTACT:Ng Seow Kong
CLASS:PUBLIC
PRIORITY:5
TRANSP:OPAQUE
END:VEVENT
END:VCALENDAR
